BEGIN:VCALENDAR
VERSION:2.0
PRODID:Accomack County Calendar Creator
METHOD:PUBLISH
BEGIN:VEVENT
DTSTAMP:20260319T093808
DTSTART:20260421T190000
DTEND:20260421T210000
SUMMARY:Electoral Board Meeting
DESCRIPTION:The Electoral Board will &nbsp;be having their next meeting on Tuesday, April 21, 2026 at 7:00 pm Election Night at 24387 Joynes Neck Road, Accomac, VA 23301.&nbsp;&nbsp;
X-ALT-DESC;FMTTYPE=text/html:The Electoral Board will &nbsp;be having their next meeting on Tuesday, April 21, 2026 at 7:00 pm Election Night at 24387 Joynes Neck Road, Accomac, VA 23301.&nbsp;&nbsp;
LOCATION:Registrar's Office\, 24387 Joynes Neck Road Accomac\, Virginia 23301
CLASS:PUBLIC
END:VEVENT
END:VCALENDAR
