BEGIN:VCALENDAR
VERSION:2.0
PRODID:Accomack County Calendar Creator
METHOD:PUBLISH
BEGIN:VEVENT
DTSTAMP:20260227T083659
DTSTART:20260317T140000
DTEND:20260317T160000
SUMMARY:Electoral Board Meeting
DESCRIPTION:The Electoral Board will be having their regularly scheduled monthly meeting on Tuesday, March 17, 2026 at 2:00 pm, in the conference room of the Public Works building, at Saw Mill Park, 24401 Joynes Neck Road, Accomac, VA 23301.
X-ALT-DESC;FMTTYPE=text/html:The Electoral Board will be having their regularly scheduled monthly meeting on Tuesday, March 17, 2026 at 2:00 pm, in the conference room of the Public Works building, at Saw Mill Park, 24401 Joynes Neck Road, Accomac, VA 23301.
LOCATION:Public Works\, 24401 Joynes Neck Rd Accomac\, Virginia 23301
CLASS:PUBLIC
END:VEVENT
END:VCALENDAR
