BEGIN:VCALENDAR
VERSION:2.0
PRODID:Accomack County Calendar Creator
METHOD:PUBLISH
BEGIN:VEVENT
DTSTAMP:20260225T112036
DTSTART:20260304T130000
DTEND:20260304T150000
SUMMARY:Wallops Research Park Leadership Council Meeting
DESCRIPTION:
X-ALT-DESC;FMTTYPE=text/html:
LOCATION:Board of Supervisor's Chambers Rm 104\, 23296 Courthouse Avenue\, 23296 Courthouse Avenue Accomac\, Virginia 23301
CLASS:PUBLIC
END:VEVENT
END:VCALENDAR
