BEGIN:VCALENDAR
VERSION:2.0
PRODID:Accomack County Calendar Creator
METHOD:PUBLISH
BEGIN:VEVENT
DTSTAMP:20260219T082856
DTSTART:20260219T173000
DTEND:20260219T193000
SUMMARY:**CANCELLED** Board of Supervisors - FY27 Budget Work Session
DESCRIPTION:
X-ALT-DESC;FMTTYPE=text/html:
LOCATION:Board Chambers\, 23296 Courthouse Avenue\, Room #104 Accomac\, Virginia 23301
CLASS:PUBLIC
END:VEVENT
END:VCALENDAR
