BEGIN:VCALENDAR
VERSION:2.0
PRODID:Accomack County Calendar Creator
METHOD:PUBLISH
BEGIN:VEVENT
DTSTAMP:20251215T124019
DTSTART:20260120T190000
DTEND:20260120T200000
SUMMARY:Board of Supervisors Meeting: Accomack-Northampton Planning District Commission Regular Meetings (3+ Supervisors Attending)
DESCRIPTION:<div wpb_content_element"=""><p>The meetings are the third Mondays at 7 pm at the Enterprise Building,&nbsp;<strong><em>except for the month of January where it is the third Tuesday at 7 pm</em></strong><strong><em>.</em></strong>&nbsp;<strong>There are no meetings in December and February.</strong></p><p align="center"><b>NOTICE OF MEETING OF THE ACCOMACK COUNTY BOARD OF SUPERVISORS</b></p><p align="center"><b>AS REQUIRED BY VIRGINIA CODE SECTION 2.2-3707</b></p><p align="center">&nbsp; &nbsp; &nbsp; &nbsp; &nbsp; &nbsp; Pursuant to Virginia Code Section 2.2-3701 of the Code of Virginia, a meeting of the Accomack County Board of Supervisors occurs when as many as three members of the Board assemble, and public business of the Board is discussed or transacted. At least three members of the Board serve on the governing body of the Accomack-Northampton Planning District Commission and are expected to attend its regular meetings on the third Monday of every month, following the schedule listed below. Accordingly, notice is hereby given of a meeting of the Accomack County Board of Supervisors on the following dates at the ANPDC Enterprise Building located at 23372 Front Street - Accomac, VA 23301.&nbsp; The members of the Accomack County Board of Supervisors will not have a quorum to vote on County business.</p><p>&nbsp;&nbsp;&nbsp;&nbsp;&nbsp;&nbsp;&nbsp;&nbsp;&nbsp;&nbsp;&nbsp; Agenda materials may be viewed and inspected at the A-NPDC Office located at 23372 Front Street - Accomac, VA 23301.</p></div><div wpb_row="" vc_inner="" vc_row-fluid="" minute-cal-sec="" vc_row-o-equal-height="" vc_row-flex="" no-bottom-margins"=""><div year-sec="" vc_column_container="" vc_col-sm-6"=""><h4 vcex-heading="" vcex-heading-plain"="">2026 Meeting Dates</h4><h4 vcex-heading="" vcex-heading-plain"="" style="margin-left: 80px;"><span style="font-size: 14px;">Tuesday, Jan 20 (Monday the 19th is a holiday)<br>February - No regular meeting<br>Monday, Mar 16<br>Monday, Apr 20<br>Monday, May 18<br>Monday, Jun 15<br>Monday, Jul 20<br>Monday, Aug 17<br>Monday, Sep 21<br>Monday, Oct 19<br>Monday, Nov 16<br>December - No regular meeting</span></h4></div></div>
X-ALT-DESC;FMTTYPE=text/html:<div wpb_content_element"=""><p>The meetings are the third Mondays at 7 pm at the Enterprise Building,&nbsp;<strong><em>except for the month of January where it is the third Tuesday at 7 pm</em></strong><strong><em>.</em></strong>&nbsp;<strong>There are no meetings in December and February.</strong></p><p align="center"><b>NOTICE OF MEETING OF THE ACCOMACK COUNTY BOARD OF SUPERVISORS</b></p><p align="center"><b>AS REQUIRED BY VIRGINIA CODE SECTION 2.2-3707</b></p><p align="center">&nbsp; &nbsp; &nbsp; &nbsp; &nbsp; &nbsp; Pursuant to Virginia Code Section 2.2-3701 of the Code of Virginia, a meeting of the Accomack County Board of Supervisors occurs when as many as three members of the Board assemble, and public business of the Board is discussed or transacted. At least three members of the Board serve on the governing body of the Accomack-Northampton Planning District Commission and are expected to attend its regular meetings on the third Monday of every month, following the schedule listed below. Accordingly, notice is hereby given of a meeting of the Accomack County Board of Supervisors on the following dates at the ANPDC Enterprise Building located at 23372 Front Street - Accomac, VA 23301.&nbsp; The members of the Accomack County Board of Supervisors will not have a quorum to vote on County business.</p><p>&nbsp;&nbsp;&nbsp;&nbsp;&nbsp;&nbsp;&nbsp;&nbsp;&nbsp;&nbsp;&nbsp; Agenda materials may be viewed and inspected at the A-NPDC Office located at 23372 Front Street - Accomac, VA 23301.</p></div><div wpb_row="" vc_inner="" vc_row-fluid="" minute-cal-sec="" vc_row-o-equal-height="" vc_row-flex="" no-bottom-margins"=""><div year-sec="" vc_column_container="" vc_col-sm-6"=""><h4 vcex-heading="" vcex-heading-plain"="">2026 Meeting Dates</h4><h4 vcex-heading="" vcex-heading-plain"="" style="margin-left: 80px;"><span style="font-size: 14px;">Tuesday, Jan 20 (Monday the 19th is a holiday)<br>February - No regular meeting<br>Monday, Mar 16<br>Monday, Apr 20<br>Monday, May 18<br>Monday, Jun 15<br>Monday, Jul 20<br>Monday, Aug 17<br>Monday, Sep 21<br>Monday, Oct 19<br>Monday, Nov 16<br>December - No regular meeting</span></h4></div></div>
LOCATION:ANPDC Enterprise Building\, 23372 Front Street Accomac\, Virginia 23301
CLASS:PUBLIC
END:VEVENT
END:VCALENDAR
