BEGIN:VCALENDAR
VERSION:2.0
PRODID:Accomack County Calendar Creator
METHOD:PUBLISH
BEGIN:VEVENT
DTSTAMP:20240125T125417
DTSTART:20251203T100000
DTEND:20251203T120000
SUMMARY:Board of Zoning Appeals Meeting
DESCRIPTION:
X-ALT-DESC;FMTTYPE=text/html:
LOCATION:Board Chambers\, 23296 Courthouse Avenue\, Room #104 Accomac\, Virginia 23301
CLASS:PUBLIC
END:VEVENT
END:VCALENDAR
