BEGIN:VCALENDAR
VERSION:2.0
PRODID:Accomack County Calendar Creator
METHOD:PUBLISH
BEGIN:VEVENT
DTSTAMP:20210218T092258
DTSTART:20210322T170000
DTEND:20210322T210000
SUMMARY:Board of Supervisors - FY 2022 Budget & Tax Rate Public Hearing
DESCRIPTION:
X-ALT-DESC;FMTTYPE=text/html:
LOCATION:Metompkin Elementary School\, 24501 Parksley Rd Parksley\, Virginia 23421
CLASS:PUBLIC
END:VEVENT
END:VCALENDAR
