BEGIN:VCALENDAR
VERSION:2.0
PRODID:Accomack County Calendar Creator
METHOD:PUBLISH
BEGIN:VEVENT
DTSTAMP:20201027T131203
DTSTART:20201103T000000
DTEND:20201103T190000
SUMMARY:County Offices Closed
DESCRIPTION:Accomack County Offices will be closed in observance of Election Day
X-ALT-DESC;FMTTYPE=text/html:Accomack County Offices will be closed in observance of Election Day
LOCATION:
CLASS:PUBLIC
END:VEVENT
END:VCALENDAR
