BEGIN:VCALENDAR
VERSION:2.0
PRODID:Accomack County Calendar Creator
METHOD:PUBLISH
BEGIN:VEVENT
DTSTAMP:20200713T120659
DTSTART:20200722T140000
DTEND:20200722T235900
SUMMARY:ELECTORAL BOARD MEETING
DESCRIPTION:<p>Accomack County Board of Elections&nbsp; Meeting</p><p>JUly 22,2020&nbsp; &nbsp; &nbsp;2PM</p><p>NEW Registrar's Office</p><p>24387 Joynes Neck Rd</p><p>Accomack Virginia</p><p>&nbsp;</p><p>Agenda</p><p>Call to order</p><p>Reorganize Board if new member present</p><p>Approve minutes of May 20 2020 canvas and meeting</p><p>Approve minutes of June 24 2020 canvas</p><p>Updates from Registrar White</p><p>Comments/updates from Board Members</p><p>Review of Elect training</p><p>Set tentative schedule for November election duties</p><p>Yearly review of Registrar (executive session)</p><p>Return to open session</p><p>Adjourn</p>
X-ALT-DESC;FMTTYPE=text/html:<p>Accomack County Board of Elections&nbsp; Meeting</p><p>JUly 22,2020&nbsp; &nbsp; &nbsp;2PM</p><p>NEW Registrar's Office</p><p>24387 Joynes Neck Rd</p><p>Accomack Virginia</p><p>&nbsp;</p><p>Agenda</p><p>Call to order</p><p>Reorganize Board if new member present</p><p>Approve minutes of May 20 2020 canvas and meeting</p><p>Approve minutes of June 24 2020 canvas</p><p>Updates from Registrar White</p><p>Comments/updates from Board Members</p><p>Review of Elect training</p><p>Set tentative schedule for November election duties</p><p>Yearly review of Registrar (executive session)</p><p>Return to open session</p><p>Adjourn</p>
LOCATION:
CLASS:PUBLIC
END:VEVENT
END:VCALENDAR
