BEGIN:VCALENDAR
VERSION:2.0
PRODID:Accomack County Calendar Creator
METHOD:PUBLISH
BEGIN:VEVENT
DTSTAMP:20200529T155743
DTSTART:20200603T170000
DTEND:20200603T190000
SUMMARY:Accomack County Board of Supervisors (Electronic) Work Session
DESCRIPTION:Board of Supervisors [Electronic] Work Session<br>Wednesday, June 3, 2020 @ 5:00 pm.<br><br>Visit <a href="https://www.boarddocs.com/va/coa/Board.nsf/Public" target="_blank">https://www.boarddocs.com/va/coa/Board.nsf/Public</a> to view the agenda.<br>Visit <a href="https://www.co.accomack.va.us/how-do-i/listen-to-meeting-audio" target="_blank">https://www.co.accomack.va.us/how-do-i/listen-to-meeting-audio</a> to listen to the meeting audio.
X-ALT-DESC;FMTTYPE=text/html:Board of Supervisors [Electronic] Work Session<br>Wednesday, June 3, 2020 @ 5:00 pm.<br><br>Visit <a href="https://www.boarddocs.com/va/coa/Board.nsf/Public" target="_blank">https://www.boarddocs.com/va/coa/Board.nsf/Public</a> to view the agenda.<br>Visit <a href="https://www.co.accomack.va.us/how-do-i/listen-to-meeting-audio" target="_blank">https://www.co.accomack.va.us/how-do-i/listen-to-meeting-audio</a> to listen to the meeting audio.
LOCATION:
CLASS:PUBLIC
END:VEVENT
END:VCALENDAR
