BEGIN:VCALENDAR
VERSION:2.0
PRODID:Accomack County Calendar Creator
METHOD:PUBLISH
BEGIN:VEVENT
DTSTAMP:20200526T112213
DTSTART:20200528T183000
DTEND:20200528T203000
SUMMARY:ESVA 9-1-1 Commission  Regular Meeting - COVID-19 Related and Other Needed Business
DESCRIPTION:<p align="center">ESVA 9-1-1 Commission<span style="text-align: left;">&nbsp;</span></p><p align="center">Regular Meeting - COVID-19 Related and Other Needed Business </p><p align="center">Date – May 28<sup>th</sup>, 2020</p><p align="center">Time – 6:30PM<span style="text-align: left;">&nbsp;</span></p><p align="center">Meeting will be conducted remotely/electronic means – If access (to listen) is needed, contact the ESVA 9-1-1 Center 9-1-1 Director at jflournoy@co.northampton.va.us or can call 757-787-0911 asking for available supervisory staff on duty.<span style="text-align: left;">&nbsp;</span></p><p align="center">Issued May 25<sup>th</sup>, 2020</p>
X-ALT-DESC;FMTTYPE=text/html:<p align="center">ESVA 9-1-1 Commission<span style="text-align: left;">&nbsp;</span></p><p align="center">Regular Meeting - COVID-19 Related and Other Needed Business </p><p align="center">Date – May 28<sup>th</sup>, 2020</p><p align="center">Time – 6:30PM<span style="text-align: left;">&nbsp;</span></p><p align="center">Meeting will be conducted remotely/electronic means – If access (to listen) is needed, contact the ESVA 9-1-1 Center 9-1-1 Director at jflournoy@co.northampton.va.us or can call 757-787-0911 asking for available supervisory staff on duty.<span style="text-align: left;">&nbsp;</span></p><p align="center">Issued May 25<sup>th</sup>, 2020</p>
LOCATION:
CLASS:PUBLIC
END:VEVENT
END:VCALENDAR
