BEGIN:VCALENDAR
VERSION:2.0
PRODID:Accomack County Calendar Creator
METHOD:PUBLISH
BEGIN:VEVENT
DTSTAMP:20200511T135926
DTSTART:20200513T170000
DTEND:20200513T190000
SUMMARY:Board of Supervisors (Electronic) Special Meeting
DESCRIPTION:Board of Supervisors [Electronic] Special Meeting<br>Wednesday, May 13, 2020<br>5:00 pm.<br><br>Visit <a href="https://www.boarddocs.com/va/coa/Board.nsf/Public" target="_blank">https://www.boarddocs.com/va/coa/Board.nsf/Public</a> to view the agenda.<br>Visit<a href=" https://www.co.accomack.va.us/how-do-i/listen-to-meeting-audio" target="_blank"> https://www.co.accomack.va.us/how-do-i/listen-to-meeting-audio</a> to listen to the meeting audio.
X-ALT-DESC;FMTTYPE=text/html:Board of Supervisors [Electronic] Special Meeting<br>Wednesday, May 13, 2020<br>5:00 pm.<br><br>Visit <a href="https://www.boarddocs.com/va/coa/Board.nsf/Public" target="_blank">https://www.boarddocs.com/va/coa/Board.nsf/Public</a> to view the agenda.<br>Visit<a href=" https://www.co.accomack.va.us/how-do-i/listen-to-meeting-audio" target="_blank"> https://www.co.accomack.va.us/how-do-i/listen-to-meeting-audio</a> to listen to the meeting audio.
LOCATION:Electronic Meeting\, 
CLASS:PUBLIC
END:VEVENT
END:VCALENDAR
