BEGIN:VCALENDAR
VERSION:2.0
PRODID:Accomack County Calendar Creator
METHOD:PUBLISH
BEGIN:VEVENT
DTSTAMP:20200428T115109
DTSTART:20200430T183000
DTEND:20200430T193000
SUMMARY:ESVA 9-1-1 Commission Regular Meeting - COVID-19 Related
DESCRIPTION:Meeting will be conducted remotely/electronic means – If access (to listen) is needed, contact the ESVA 9-1-1 Center 9-1-1 Director at jflournoy@co.northampton.va.us or can call 757-787-0911 asking for available supervisory staff on duty.
X-ALT-DESC;FMTTYPE=text/html:Meeting will be conducted remotely/electronic means – If access (to listen) is needed, contact the ESVA 9-1-1 Center 9-1-1 Director at jflournoy@co.northampton.va.us or can call 757-787-0911 asking for available supervisory staff on duty.
LOCATION:
CLASS:PUBLIC
END:VEVENT
END:VCALENDAR
