BEGIN:VCALENDAR
VERSION:2.0
PRODID:Accomack County Calendar Creator
METHOD:PUBLISH
BEGIN:VEVENT
DTSTAMP:20200401T152628
DTSTART:20200406T180000
DTEND:20200406T200000
SUMMARY:Board of Supervisors Special (Electronic) Meeting
DESCRIPTION:<p>Board of Supervisors will hold a Special (Electronic) Meeting on April 6, 2020 at 6:00 p.m.&nbsp;</p><p>During the Special Meeting, Board of Supervisors will consider the following items:<br><br>▪ Adopting the FY2020-2021 Budget<br><br>▪ Adopting the CY2020 Tax Rates<br><br>▪ Temporary Legal Services<br><br>▪ Emergency Ordinance to extend the due date of Real Estate and Personal Property Taxes<br><br>In order to comply with current safety guidelines issued by the CDC concerning public gatherings, there will be no physical public access to the meeting however it will be streamed over the internet live on the County’s website:<br><br>https://www.co.accomack.va.us/how-do-i/listen-to-meeting-audio<br><br><br><br>For additional assistance, contact the County Administrator’s Office at (757) 787-5700 or administration@co.accomack.va.us</p>
X-ALT-DESC;FMTTYPE=text/html:<p>Board of Supervisors will hold a Special (Electronic) Meeting on April 6, 2020 at 6:00 p.m.&nbsp;</p><p>During the Special Meeting, Board of Supervisors will consider the following items:<br><br>▪ Adopting the FY2020-2021 Budget<br><br>▪ Adopting the CY2020 Tax Rates<br><br>▪ Temporary Legal Services<br><br>▪ Emergency Ordinance to extend the due date of Real Estate and Personal Property Taxes<br><br>In order to comply with current safety guidelines issued by the CDC concerning public gatherings, there will be no physical public access to the meeting however it will be streamed over the internet live on the County’s website:<br><br>https://www.co.accomack.va.us/how-do-i/listen-to-meeting-audio<br><br><br><br>For additional assistance, contact the County Administrator’s Office at (757) 787-5700 or administration@co.accomack.va.us</p>
LOCATION:Board of Supervisors Chambers\, 23296 COURTHOUSE AVE\, Suite 104\, Suite 104 ACCOMAC\, Virginia 23301
CLASS:PUBLIC
END:VEVENT
END:VCALENDAR
