BEGIN:VCALENDAR
VERSION:2.0
PRODID:Accomack County Calendar Creator
METHOD:PUBLISH
BEGIN:VEVENT
DTSTAMP:20200319T150536
DTSTART:20200320T150000
DTEND:20200320T153000
SUMMARY:Accomack County Board of Supervisors Electronic Meeting
DESCRIPTION:<p style="text-align: center;">Accomack County Board of Supervisors</p><p style="text-align: center;"><strong>NOTICE OF AN EMERGENCY MEETING</strong></p><p>The Board of Supervisors will hold an emergency, electronic meeting on March 20, 2020 at 3:00 p.m. in accordance with Virginia Code 2.2-3708.2(A)(3) due to the catastrophic nature of the declared COVID-19 emergency which makes it impracticable and unsafe to assemble a quorum in a single location. The Board will meet for the purpose of addressing the Commonwealth and County Emergency Declarations; the disaster posed by the COVID-19 pandemic on the citizens’ health and safety; and provisions for the continuity of government during this state of emergency.</p>
X-ALT-DESC;FMTTYPE=text/html:<p style="text-align: center;">Accomack County Board of Supervisors</p><p style="text-align: center;"><strong>NOTICE OF AN EMERGENCY MEETING</strong></p><p>The Board of Supervisors will hold an emergency, electronic meeting on March 20, 2020 at 3:00 p.m. in accordance with Virginia Code 2.2-3708.2(A)(3) due to the catastrophic nature of the declared COVID-19 emergency which makes it impracticable and unsafe to assemble a quorum in a single location. The Board will meet for the purpose of addressing the Commonwealth and County Emergency Declarations; the disaster posed by the COVID-19 pandemic on the citizens’ health and safety; and provisions for the continuity of government during this state of emergency.</p>
LOCATION:
CLASS:PUBLIC
END:VEVENT
END:VCALENDAR
