BEGIN:VCALENDAR
VERSION:2.0
PRODID:Accomack County Calendar Creator
METHOD:PUBLISH
BEGIN:VEVENT
DTSTAMP:20200317T124436
DTSTART:20200324T160000
DTEND:20200324T190000
SUMMARY:***Cancelled*** 2020 Census Launch Party
DESCRIPTION:<p>Join the Hon. Samuel H. Cooper, Mrs. Mozella Francis, Reverend Kelvin Jones., and Mrs. Donna Sample-Smith in a fun event to launch a "complete count" of all households on the Eastern Shore of Virginia. Each counted individual can help our community have access to $20,000 in federal funding over the next 10 years. These&nbsp; funds means hundreds of thousands of dollars for local governments, schools, libraries and public services to our local communities.&nbsp; Census Bureau representatives will also be on site to assist in completing the Census online and to answer questions. Take the Census survey at the event.&nbsp;</p><p>The event is free and open to the public.</p><p>Sponsored by the Eastern Shore Regional Complete Count Committee</p><p>&nbsp;</p><p><strong>To View the event flyer for more details click <a href="https://accomack.prod-as.govaccess.org/home/showpublisheddocument/12567/637195249516670000" target="_blank">HERE</a></strong></p>
X-ALT-DESC;FMTTYPE=text/html:<p>Join the Hon. Samuel H. Cooper, Mrs. Mozella Francis, Reverend Kelvin Jones., and Mrs. Donna Sample-Smith in a fun event to launch a "complete count" of all households on the Eastern Shore of Virginia. Each counted individual can help our community have access to $20,000 in federal funding over the next 10 years. These&nbsp; funds means hundreds of thousands of dollars for local governments, schools, libraries and public services to our local communities.&nbsp; Census Bureau representatives will also be on site to assist in completing the Census online and to answer questions. Take the Census survey at the event.&nbsp;</p><p>The event is free and open to the public.</p><p>Sponsored by the Eastern Shore Regional Complete Count Committee</p><p>&nbsp;</p><p><strong>To View the event flyer for more details click <a href="https://accomack.prod-as.govaccess.org/home/showpublisheddocument/12567/637195249516670000" target="_blank">HERE</a></strong></p>
LOCATION:
CLASS:PUBLIC
END:VEVENT
END:VCALENDAR
