BEGIN:VCALENDAR
VERSION:2.0
PRODID:Accomack County Calendar Creator
METHOD:PUBLISH
BEGIN:VEVENT
DTSTAMP:20200204T081827
DTSTART:20200210T170000
DTEND:20200210T200000
SUMMARY:Board of Supervisors Budget Work Session
DESCRIPTION:Board of Supervisors Budget Work Session&nbsp;
X-ALT-DESC;FMTTYPE=text/html:Board of Supervisors Budget Work Session&nbsp;
LOCATION:Board Chambers Room 104\, 23296 Courthouse Ave\, Suite 104 Accomac\, Virginia 23301
CLASS:PUBLIC
END:VEVENT
END:VCALENDAR
