BEGIN:VCALENDAR
VERSION:2.0
PRODID:Accomack County Calendar Creator
METHOD:PUBLISH
BEGIN:VEVENT
DTSTAMP:20200513T124628
DTSTART:20200528T100000
DTEND:20200528T235900
SUMMARY:**CANCELLED** Accomack County Wetlands Board Meeting **CANCELLED**
DESCRIPTION:The May Wetlands Board Meeting has been cancelled
X-ALT-DESC;FMTTYPE=text/html:The May Wetlands Board Meeting has been cancelled
LOCATION:County Administration Building\, Room 104\, 23296 Courthouse Avenue Accomac\, Virginia 23301
CLASS:PUBLIC
END:VEVENT
END:VCALENDAR
