BEGIN:VCALENDAR
VERSION:2.0
PRODID:Accomack County Calendar Creator
METHOD:PUBLISH
BEGIN:VEVENT
DTSTAMP:20200122T094810
DTSTART:20200924T100000
DTEND:20200924T235900
SUMMARY:Accomack County Wetlands Board Meeting
DESCRIPTION:To hear and decide whether to grant or deny a permit while preserving and preventing the despoliation and destruction of wetlands while accommodating necessary economic development in a manner consistent with wetlands preservation.
X-ALT-DESC;FMTTYPE=text/html:To hear and decide whether to grant or deny a permit while preserving and preventing the despoliation and destruction of wetlands while accommodating necessary economic development in a manner consistent with wetlands preservation.
LOCATION:County Administration Building\, Room 104\, 23296 Courthouse Avenue Accomac\, Virginia 23301
CLASS:PUBLIC
END:VEVENT
END:VCALENDAR
