BEGIN:VCALENDAR
VERSION:2.0
PRODID:Accomack County Calendar Creator
METHOD:PUBLISH
BEGIN:VEVENT
DTSTAMP:20200602T095959
DTSTART:20200617T170000
DTEND:20200617T190000
SUMMARY:Board of Supervisors Meeting
DESCRIPTION:<p>The agenda for this meeting will be posted on the County's paperless agenda website for viewing by the public on the Friday preceding the meeting date.</p><p>Go to&nbsp;<a href="http://www.boarddocs.com/va/coa/Board.nsf/Public" target="_blank">www.boarddocs.com/va/coa/Board.nsf/Public</a>&nbsp;to view the agenda</p><p>To listen to the live audio, please visit:<a href=" https://www.co.accomack.va.us/how-do-i/listen-to-meeting-audio" target="_blank"> https://www.co.accomack.va.us/how-do-i/listen-to-meeting-audio</a></p><p>Seating for those in attendance will comply with the 6-feet social distancing guideline.</p><p>Virginia Executive Order 63 directs all patrons age 10 and older to wear a mask or face covering at all times while entering, exiting, traveling through, and spending time in a variety of public settings.</p>
X-ALT-DESC;FMTTYPE=text/html:<p>The agenda for this meeting will be posted on the County's paperless agenda website for viewing by the public on the Friday preceding the meeting date.</p><p>Go to&nbsp;<a href="http://www.boarddocs.com/va/coa/Board.nsf/Public" target="_blank">www.boarddocs.com/va/coa/Board.nsf/Public</a>&nbsp;to view the agenda</p><p>To listen to the live audio, please visit:<a href=" https://www.co.accomack.va.us/how-do-i/listen-to-meeting-audio" target="_blank"> https://www.co.accomack.va.us/how-do-i/listen-to-meeting-audio</a></p><p>Seating for those in attendance will comply with the 6-feet social distancing guideline.</p><p>Virginia Executive Order 63 directs all patrons age 10 and older to wear a mask or face covering at all times while entering, exiting, traveling through, and spending time in a variety of public settings.</p>
LOCATION:Metompkin Elementary School Cafatorium\, 24501 Parksley Road Parksley\, Virginia 23421
CLASS:PUBLIC
END:VEVENT
END:VCALENDAR
