BEGIN:VCALENDAR
VERSION:2.0
PRODID:Accomack County Calendar Creator
METHOD:PUBLISH
BEGIN:VEVENT
DTSTAMP:20191230T140153
DTSTART:20201126T000000
DTEND:20201126T235900
SUMMARY:County Offices Closed
DESCRIPTION:County Offices Closed
X-ALT-DESC;FMTTYPE=text/html:County Offices Closed
LOCATION:
CLASS:PUBLIC
END:VEVENT
END:VCALENDAR
