BEGIN:VCALENDAR
VERSION:2.0
PRODID:Accomack County Calendar Creator
METHOD:PUBLISH
BEGIN:VEVENT
DTSTAMP:20200212T131839
DTSTART:20201125T120000
DTEND:20201125T235900
SUMMARY:County Offices Closing at noon
DESCRIPTION:County Offices Closing at noon
X-ALT-DESC;FMTTYPE=text/html:County Offices Closing at noon
LOCATION:
CLASS:PUBLIC
END:VEVENT
END:VCALENDAR
