BEGIN:VCALENDAR
VERSION:2.0
PRODID:Accomack County Calendar Creator
METHOD:PUBLISH
BEGIN:VEVENT
DTSTAMP:20200914T160432
DTSTART:20200922T190000
DTEND:20200922T200000
SUMMARY:**CANCELLED** Accomack County Planning Commission Work Session **CANCELLED**
DESCRIPTION:Accomack County Planning Commission Work Session
X-ALT-DESC;FMTTYPE=text/html:Accomack County Planning Commission Work Session
LOCATION:School Board Conference Room\, 23296 Courthouse Ave\, Suite\, ACPS Conf. Room Accomac\, Virginia 23301
CLASS:PUBLIC
END:VEVENT
END:VCALENDAR
