BEGIN:VCALENDAR
VERSION:2.0
PRODID:Accomack County Calendar Creator
METHOD:PUBLISH
BEGIN:VEVENT
DTSTAMP:20200424T083722
DTSTART:20200428T190000
DTEND:20200428T200100
SUMMARY:Accomack County Planning Commission Work Session (Electronic Meeting)
DESCRIPTION:This will be an Electronic (Conference Call) .&nbsp;Meeting pursuant to the ordinance adopted by the Board of Supervisors on March 20, 2020.<br>Interested persons can listen can listen to this meeting by going to the County website at www.co.accomack.va.us and click on "Listen to Meeting Audio". The meeting information (i.e. power point, draft ordinance, draft guidelines) can also be found on BoardDocs at https://go.boarddocs.com/va/coa/Board.nsf/Public.
X-ALT-DESC;FMTTYPE=text/html:This will be an Electronic (Conference Call) .&nbsp;Meeting pursuant to the ordinance adopted by the Board of Supervisors on March 20, 2020.<br>Interested persons can listen can listen to this meeting by going to the County website at www.co.accomack.va.us and click on "Listen to Meeting Audio". The meeting information (i.e. power point, draft ordinance, draft guidelines) can also be found on BoardDocs at https://go.boarddocs.com/va/coa/Board.nsf/Public.
LOCATION:Electronic Meeting\, Virginia 
CLASS:PUBLIC
END:VEVENT
END:VCALENDAR
