BEGIN:VCALENDAR
VERSION:2.0
PRODID:Accomack County Calendar Creator
METHOD:PUBLISH
BEGIN:VEVENT
DTSTAMP:20191212T112613
DTSTART:20201014T190000
DTEND:20201014T200000
SUMMARY:Accomack County Planning Commission Meeting
DESCRIPTION:Accomack County Planning Commission Regular Meeting.&nbsp;
X-ALT-DESC;FMTTYPE=text/html:Accomack County Planning Commission Regular Meeting.&nbsp;
LOCATION:Board Chambers\, 23296 Courthouse Ave\, Suite 104 Accomac\, Virginia 23301
CLASS:PUBLIC
END:VEVENT
END:VCALENDAR
