BEGIN:VCALENDAR
VERSION:2.0
PRODID:Accomack County Calendar Creator
METHOD:PUBLISH
BEGIN:VEVENT
DTSTAMP:20200504T082235
DTSTART:20200506T100000
DTEND:20200506T120000
SUMMARY:County of Accomack Board of Zoning Appeals Meeting (Electronic Meeting)
DESCRIPTION:<p align="center" style="text-align: left;"><b>Meetings are held on the 1<sup>st</sup> Wednesday of each month </b></p><p align="center" style="text-align: left;"><b>This will be an Electronic (Conference Call) Meeting pursuant to the ordinance adopted by the Board of Supervisors on March 20, 2020.<br>Interested persons can listen to this meeting by going to the County website at <a href="www.co.accomack.va.us " target="_blank">www.co.accomack.va.us </a>and click on "Listen to Meeting Audio". The meeting information (i.e. power point, staff reports, and applications) can also be found on BoardDocs at <a href="https://go.boarddocs.com/va/coa/Board.nsf/Public" target="_blank">https://go.boarddocs.com/va/coa/Board.nsf/Public</a>.</b></p>
X-ALT-DESC;FMTTYPE=text/html:<p align="center" style="text-align: left;"><b>Meetings are held on the 1<sup>st</sup> Wednesday of each month </b></p><p align="center" style="text-align: left;"><b>This will be an Electronic (Conference Call) Meeting pursuant to the ordinance adopted by the Board of Supervisors on March 20, 2020.<br>Interested persons can listen to this meeting by going to the County website at <a href="www.co.accomack.va.us " target="_blank">www.co.accomack.va.us </a>and click on "Listen to Meeting Audio". The meeting information (i.e. power point, staff reports, and applications) can also be found on BoardDocs at <a href="https://go.boarddocs.com/va/coa/Board.nsf/Public" target="_blank">https://go.boarddocs.com/va/coa/Board.nsf/Public</a>.</b></p>
LOCATION:Virginia 
CLASS:PUBLIC
END:VEVENT
END:VCALENDAR
