BEGIN:VCALENDAR
VERSION:2.0
PRODID:Accomack County Calendar Creator
METHOD:PUBLISH
BEGIN:VEVENT
DTSTAMP:20200612T104247
DTSTART:20200701T100000
DTEND:20200701T120000
SUMMARY:CANCELLED *** County of Accomack Board of Zoning Appeals Meeting *** CANCELLED
DESCRIPTION:<p align="center" style="text-align: left;"><b>The July 1st meeting has been cancelled.&nbsp;</b></p>
X-ALT-DESC;FMTTYPE=text/html:<p align="center" style="text-align: left;"><b>The July 1st meeting has been cancelled.&nbsp;</b></p>
LOCATION:23296 COURTHOUSE AVE\, Suite 104 ACCOMAC\, Virginia 23301
CLASS:PUBLIC
END:VEVENT
END:VCALENDAR
