BEGIN:VCALENDAR
VERSION:2.0
PRODID:Accomack County Calendar Creator
METHOD:PUBLISH
BEGIN:VEVENT
DTSTAMP:20200824T103722
DTSTART:20200902T100000
DTEND:20200902T120000
SUMMARY:CANCELLED *** County of Accomack Board of Zoning Appeals Meeting *** CANCELLED
DESCRIPTION:<p align="center" style="text-align: left;"><b>September 2, 2020 meeting has been cancelled.  </b></p>
X-ALT-DESC;FMTTYPE=text/html:<p align="center" style="text-align: left;"><b>September 2, 2020 meeting has been cancelled.  </b></p>
LOCATION:23296 COURTHOUSE AVE\, Suite 104 ACCOMAC\, Virginia 23301
CLASS:PUBLIC
END:VEVENT
END:VCALENDAR
