BEGIN:VCALENDAR
VERSION:2.0
PRODID:Accomack County Calendar Creator
METHOD:PUBLISH
BEGIN:VEVENT
DTSTAMP:20191227T115708
DTSTART:20200127T083000
DTEND:20200127T100000
SUMMARY:Eastern Shore Regional Complete Count Committee
DESCRIPTION:<p>Eastern Shore Regional Complete Count Committee</p><p>8:30am Accomack County Airport Conference Room</p>
X-ALT-DESC;FMTTYPE=text/html:<p>Eastern Shore Regional Complete Count Committee</p><p>8:30am Accomack County Airport Conference Room</p>
LOCATION:Accomack County Airport Conference Room\, 29194 Parkway Melfa\, Virginia 23410
CLASS:PUBLIC
END:VEVENT
END:VCALENDAR
