BEGIN:VCALENDAR
VERSION:2.0
PRODID:Accomack County Calendar Creator
METHOD:PUBLISH
BEGIN:VEVENT
DTSTAMP:20200110T123715
DTSTART:20200113T083000
DTEND:20200113T100000
SUMMARY:Eastern Shore Regional Complete Count Committee
DESCRIPTION:<p>Eastern Shore Regional Complete Count Committee information and meeting materials may be viewed by clicking <a href="https://www.co.accomack.va.us/residents/census-complete-count-committee" target="_blank">here</a>.</p><p>8:30 a.m.</p><p>Accomack County Airport Conference Room</p><p>&nbsp;</p>
X-ALT-DESC;FMTTYPE=text/html:<p>Eastern Shore Regional Complete Count Committee information and meeting materials may be viewed by clicking <a href="https://www.co.accomack.va.us/residents/census-complete-count-committee" target="_blank">here</a>.</p><p>8:30 a.m.</p><p>Accomack County Airport Conference Room</p><p>&nbsp;</p>
LOCATION:Accomack County Airport Conference Room\, 29194 Parkway Melfa\, Virginia 23410
CLASS:PUBLIC
END:VEVENT
END:VCALENDAR
