BEGIN:VCALENDAR
VERSION:2.0
PRODID:Accomack County Calendar Creator
METHOD:PUBLISH
BEGIN:VEVENT
DTSTAMP:20191125T163525
DTSTART:20191125T083000
DTEND:20191125T100000
SUMMARY:Regional Complete Count Committee
DESCRIPTION:Regional Complete Count Committee on Monday, November 25th&nbsp;at 8:30 am at the Accomack County Airport Conference Room.
X-ALT-DESC;FMTTYPE=text/html:Regional Complete Count Committee on Monday, November 25th&nbsp;at 8:30 am at the Accomack County Airport Conference Room.
LOCATION:Accomack County Airport Conference Room\, 29194 Parkway Melfa\, Virginia 23410
CLASS:PUBLIC
END:VEVENT
END:VCALENDAR
