BEGIN:VCALENDAR
VERSION:2.0
PRODID:Accomack County Calendar Creator
METHOD:PUBLISH
BEGIN:VEVENT
DTSTAMP:20191104T114308
DTSTART:20200311T140000
DTEND:20200311T160000
SUMMARY:Eastern Shore Regional Library Steering Committee.
DESCRIPTION:<p>Joint meeting of the Library Construction Committee &amp; Steering Committee</p><p>Club Car Café – Banquet Hall,&nbsp; at 18501 Dunne Ave., Parksley, VA 23421</p><ol>    <li>&nbsp;At the conclusion of meeting, the committees will visit the Eastern Shore Public Library project site,&nbsp; 24313 Bennett Street Parksley, VA 23421</li></ol>
X-ALT-DESC;FMTTYPE=text/html:<p>Joint meeting of the Library Construction Committee &amp; Steering Committee</p><p>Club Car Café – Banquet Hall,&nbsp; at 18501 Dunne Ave., Parksley, VA 23421</p><ol>    <li>&nbsp;At the conclusion of meeting, the committees will visit the Eastern Shore Public Library project site,&nbsp; 24313 Bennett Street Parksley, VA 23421</li></ol>
LOCATION:Club Car Cafe' Banquet Hall\, 18501 Dunne Ave Parksley\, Virginia 23421
CLASS:PUBLIC
END:VEVENT
END:VCALENDAR
