BEGIN:VCALENDAR
VERSION:2.0
PRODID:Accomack County Calendar Creator
METHOD:PUBLISH
BEGIN:VEVENT
DTSTAMP:20200408T094414
DTSTART:20200408T140000
DTEND:20200408T160000
SUMMARY:Eastern Shore Regional Library Steering Committee (Electronic Meeting)
DESCRIPTION:<p>Joint meeting of the Library Construction Committee &amp; Steering Committee.&nbsp;</p><p>All of these are electronic meetings,&nbsp; please call (757) 787-1468 for conference call information, should any person wish to access the meeting.&nbsp;</p>
X-ALT-DESC;FMTTYPE=text/html:<p>Joint meeting of the Library Construction Committee &amp; Steering Committee.&nbsp;</p><p>All of these are electronic meetings,&nbsp; please call (757) 787-1468 for conference call information, should any person wish to access the meeting.&nbsp;</p>
LOCATION:Club Car Cafe' Banquet Hall\, 18501 Dunne Ave Parksley\, Virginia 23421
CLASS:PUBLIC
END:VEVENT
END:VCALENDAR
