BEGIN:VCALENDAR
VERSION:2.0
PRODID:Accomack County Calendar Creator
METHOD:PUBLISH
BEGIN:VEVENT
DTSTAMP:20190927T152536
DTSTART:20191205T160000
DTEND:20191205T170000
SUMMARY:Space Needs Committee Meeting
DESCRIPTION:<p>Accomack County Space Needs Committee</p><p>December 5, 2019 beginning at 4:00 PM</p><p>Public Works &amp; Facilities Office</p><p>Sawmill Park</p><p>24401 Joynes Neck Road</p><p>Accomac, VA 23301</p>
X-ALT-DESC;FMTTYPE=text/html:<p>Accomack County Space Needs Committee</p><p>December 5, 2019 beginning at 4:00 PM</p><p>Public Works &amp; Facilities Office</p><p>Sawmill Park</p><p>24401 Joynes Neck Road</p><p>Accomac, VA 23301</p>
LOCATION:Sawmill Park\, 24401 Joynes Neck Rd ACCOMAC\, Virginia 23301
CLASS:PUBLIC
END:VEVENT
END:VCALENDAR
