BEGIN:VCALENDAR
VERSION:2.0
PRODID:Accomack County Calendar Creator
METHOD:PUBLISH
BEGIN:VEVENT
DTSTAMP:20191002T153244
DTSTART:20191204T170000
DTEND:20191204T190000
SUMMARY:Board of Supervisors Work Session (Venue Change)
DESCRIPTION:<p>Board of Supervisors Work Session&nbsp;<br>Chincoteague Volunteer Fire House&nbsp;<br>5052&nbsp; Deep Hole Road&nbsp; Chincoteague, VA 23336&nbsp;</p><p >The agenda will be available on BoardDocs the Friday prior to the meeting date: https://go.boarddocs.com/va/coa/Board.nsf/Public&nbsp;&nbsp;</p>
X-ALT-DESC;FMTTYPE=text/html:<p>Board of Supervisors Work Session&nbsp;<br>Chincoteague Volunteer Fire House&nbsp;<br>5052&nbsp; Deep Hole Road&nbsp; Chincoteague, VA 23336&nbsp;</p><p >The agenda will be available on BoardDocs the Friday prior to the meeting date: https://go.boarddocs.com/va/coa/Board.nsf/Public&nbsp;&nbsp;</p>
LOCATION:Chincoteague Volunteer Fire House\, 5052 Deep Hole Road Chincoteague\, Virginia 23336
CLASS:PUBLIC
END:VEVENT
END:VCALENDAR
