BEGIN:VCALENDAR
VERSION:2.0
PRODID:Accomack County Calendar Creator
METHOD:PUBLISH
BEGIN:VEVENT
DTSTAMP:20190925T114708
DTSTART:20191024T170000
DTEND:20191024T190000
SUMMARY:Sanitary Sewer Force Main Project (HRSD) Publis Information Session
DESCRIPTION:<p>Public Information Session for Shore Municipalities, Governments and Staff - ES Force Main Sewer Transmission Line Project will be held on Thursday, October 24, 2019 from 5:00 p.m. – 7:00 p.m. at the Eastern Shore Community College Workforce Building in the Great Hall (29300 Lankford Highway - Melfa, VA 23410).</p><p>The public is welcome to attend.</p>
X-ALT-DESC;FMTTYPE=text/html:<p>Public Information Session for Shore Municipalities, Governments and Staff - ES Force Main Sewer Transmission Line Project will be held on Thursday, October 24, 2019 from 5:00 p.m. – 7:00 p.m. at the Eastern Shore Community College Workforce Building in the Great Hall (29300 Lankford Highway - Melfa, VA 23410).</p><p>The public is welcome to attend.</p>
LOCATION:Eastern Shore Community College Workforce Building\, 29300 Lankford Highway Melfa\, Virginia 23410
CLASS:PUBLIC
END:VEVENT
END:VCALENDAR
