BEGIN:VCALENDAR
VERSION:2.0
PRODID:Accomack County Calendar Creator
METHOD:PUBLISH
BEGIN:VEVENT
DTSTAMP:20190919T143611
DTSTART:20191016T170000
DTEND:20191016T190000
SUMMARY:Board of Supervisors Public Hearing
DESCRIPTION:<p style="text-align: left;">THE ACCOMACK COUNTY BOARD OF SUPERVISORS WILL HOLD A PUBLIC HEARING AT 5:00 PM ON WEDNESDAY, OCTOBER 16, 2019, TO AFFORD INTERESTED PERSONS THE OPPORTUNITY TO BE HEARD OR SUBMIT WRITTEN COMMENTS REGARDING THE FOLLOWING: </p><p style="text-align: center;">1. Consideration of a Resolution directing the purchase of real property for public use, specifically a portion of Accomack County Tax Map No. 98-A-22, located at Hack's Neck. </p><p style="text-align: left;">The Public Hearing will be held in the Accomack County Administration Building Board Chambers, Room #104, located at 23296 Courthouse Avenue, Accomac, Virginia. </p><p style="text-align: left;">Materials relating to this application may be reviewed at the Accomack County Administrator’s Office, 23296 Courthouse Avenue – Room # 203, Accomac, Virginia. Handicapped assistance available; call: (757) 787-5726 or (757) 824-5324</p>
X-ALT-DESC;FMTTYPE=text/html:<p style="text-align: left;">THE ACCOMACK COUNTY BOARD OF SUPERVISORS WILL HOLD A PUBLIC HEARING AT 5:00 PM ON WEDNESDAY, OCTOBER 16, 2019, TO AFFORD INTERESTED PERSONS THE OPPORTUNITY TO BE HEARD OR SUBMIT WRITTEN COMMENTS REGARDING THE FOLLOWING: </p><p style="text-align: center;">1. Consideration of a Resolution directing the purchase of real property for public use, specifically a portion of Accomack County Tax Map No. 98-A-22, located at Hack's Neck. </p><p style="text-align: left;">The Public Hearing will be held in the Accomack County Administration Building Board Chambers, Room #104, located at 23296 Courthouse Avenue, Accomac, Virginia. </p><p style="text-align: left;">Materials relating to this application may be reviewed at the Accomack County Administrator’s Office, 23296 Courthouse Avenue – Room # 203, Accomac, Virginia. Handicapped assistance available; call: (757) 787-5726 or (757) 824-5324</p>
LOCATION:Accomack County Board Chambers\, 23296 Courthouse Ave\, Suite 204\, Suite 104 Accomac\, Virginia 23301
CLASS:PUBLIC
END:VEVENT
END:VCALENDAR
