BEGIN:VCALENDAR
VERSION:2.0
PRODID:Accomack County Calendar Creator
METHOD:PUBLISH
BEGIN:VEVENT
DTSTAMP:20190918T113004
DTSTART:20191005T000000
DTEND:20191005T160000
SUMMARY:Accomack County Parks and Recreation is hosting a Family Fun Day and Mini Carnival
DESCRIPTION:<p>Accomack County Parks and Recreation will be hosting a Family Fun Day and Mini Carnival on Saturday October 5, 2019 from 12:00 pm - 4:00pm.</p><p>Please click <a href="https://accomack.prod-as.govaccess.org/home/showpublisheddocument/11998/637044015006770000" target="_blank">HERE</a> to view flyer.&nbsp;</p><p>Registration form is available <a href="https://accomack.prod-as.govaccess.org/home/showpublisheddocument/12000/637044015193470000" target="_blank">HERE.</a></p>
X-ALT-DESC;FMTTYPE=text/html:<p>Accomack County Parks and Recreation will be hosting a Family Fun Day and Mini Carnival on Saturday October 5, 2019 from 12:00 pm - 4:00pm.</p><p>Please click <a href="https://accomack.prod-as.govaccess.org/home/showpublisheddocument/11998/637044015006770000" target="_blank">HERE</a> to view flyer.&nbsp;</p><p>Registration form is available <a href="https://accomack.prod-as.govaccess.org/home/showpublisheddocument/12000/637044015193470000" target="_blank">HERE.</a></p>
LOCATION:Nandua High School\, 26350 Lankford Highway Onley\, Virginia 23418
CLASS:PUBLIC
END:VEVENT
END:VCALENDAR
