BEGIN:VCALENDAR
VERSION:2.0
PRODID:Accomack County Calendar Creator
METHOD:PUBLISH
BEGIN:VEVENT
DTSTAMP:20190830T164244
DTSTART:20190919T160000
DTEND:20190919T170000
SUMMARY:Space Needs Committee
DESCRIPTION:
X-ALT-DESC;FMTTYPE=text/html:
LOCATION:Public Works & Facilities Office\, 24401 Joynes Neck Road Accomac\, Virginia 23301
CLASS:PUBLIC
END:VEVENT
END:VCALENDAR
