BEGIN:VCALENDAR
VERSION:2.0
PRODID:Accomack County Calendar Creator
METHOD:PUBLISH
BEGIN:VEVENT
DTSTAMP:20190806T162551
DTSTART:20190811T140000
DTEND:20190811T170000
SUMMARY:Notice of a Public Meeting to Recognize the Achievements of the Central Accomack Little League Senior Boys & Girls Teams
DESCRIPTION:<p align="center"><b>Accomack County Board of Supervisors</b></p><p align="center"><b>Notice of a Public Meeting to Recognize the Achievements of the Central Accomack Little League Senior Boys &amp; Girls Teams by the Presentation of a Resolution</b></p><p align="center"><b>&nbsp;</b></p><p align="center"><b>Sunday, August 11, 2019 at 2 p.m.</b></p><p align="center"><b>&nbsp;</b></p><p align="center"><b>The event will begin at the Onancock Volunteer Fire Department</b></p><p align="center"><b>located at 9 Pine Street – Onancock, VA 23417.</b></p><p align="center"><b>&nbsp;</b></p><p align="center"><b>This event will end at the Central Accomack Little League Fields</b></p><p align="center"><b>located at 10 Hartman Avenue – Onancock, VA 23417.</b></p>
X-ALT-DESC;FMTTYPE=text/html:<p align="center"><b>Accomack County Board of Supervisors</b></p><p align="center"><b>Notice of a Public Meeting to Recognize the Achievements of the Central Accomack Little League Senior Boys &amp; Girls Teams by the Presentation of a Resolution</b></p><p align="center"><b>&nbsp;</b></p><p align="center"><b>Sunday, August 11, 2019 at 2 p.m.</b></p><p align="center"><b>&nbsp;</b></p><p align="center"><b>The event will begin at the Onancock Volunteer Fire Department</b></p><p align="center"><b>located at 9 Pine Street – Onancock, VA 23417.</b></p><p align="center"><b>&nbsp;</b></p><p align="center"><b>This event will end at the Central Accomack Little League Fields</b></p><p align="center"><b>located at 10 Hartman Avenue – Onancock, VA 23417.</b></p>
LOCATION:Onancock Fire Department\, 9 Pine Street Onancock\, Virginia 23417
CLASS:PUBLIC
END:VEVENT
END:VCALENDAR
