BEGIN:VCALENDAR
VERSION:2.0
PRODID:Accomack County Calendar Creator
METHOD:PUBLISH
BEGIN:VEVENT
DTSTAMP:20190806T111612
DTSTART:20190821T100000
DTEND:20190821T120000
SUMMARY:Accomack County Board of Zoning Appeals Meeting
DESCRIPTION:
X-ALT-DESC;FMTTYPE=text/html:
LOCATION:Board Chambers Room 104\, 23296 Courthouse Ave\, Suite 104 Accomac\, Virginia 23301
CLASS:PUBLIC
END:VEVENT
END:VCALENDAR
