BEGIN:VCALENDAR
VERSION:2.0
PRODID:Accomack County Calendar Creator
METHOD:PUBLISH
BEGIN:VEVENT
DTSTAMP:20190802T080238
DTSTART:20190814T170000
DTEND:20190814T180000
SUMMARY:Accomack County Public Information Session - ES Force Main Sewer Transmission Line Project
DESCRIPTION:<p><b>Date</b>: Wednesday, August 14th&nbsp;at 5 p.m.</p><p><b>Event Title</b>: Accomack County Public Information Session - ES Force Main Sewer Transmission Line Project</p><p><b>Location</b>:&nbsp; Onley Town Center - 25020 Shore Parkway, Onley, Virginia 23418</p><p>&nbsp;</p>
X-ALT-DESC;FMTTYPE=text/html:<p><b>Date</b>: Wednesday, August 14th&nbsp;at 5 p.m.</p><p><b>Event Title</b>: Accomack County Public Information Session - ES Force Main Sewer Transmission Line Project</p><p><b>Location</b>:&nbsp; Onley Town Center - 25020 Shore Parkway, Onley, Virginia 23418</p><p>&nbsp;</p>
LOCATION:Onley Town Center\, 25020 Shore Parkway Onley\, Virginia 23418
CLASS:PUBLIC
END:VEVENT
END:VCALENDAR
