BEGIN:VCALENDAR
VERSION:2.0
PRODID:Accomack County Calendar Creator
METHOD:PUBLISH
BEGIN:VEVENT
DTSTAMP:20190724T124508
DTSTART:20190904T160000
DTEND:20190904T170000
SUMMARY:Accomack County Solid Waste Committee Meeting
DESCRIPTION:Accomack County Solid Waste Committee&nbsp; will meet Sept. 4, 2019&nbsp; at 4 pm at the Public Works office.&nbsp;
X-ALT-DESC;FMTTYPE=text/html:Accomack County Solid Waste Committee&nbsp; will meet Sept. 4, 2019&nbsp; at 4 pm at the Public Works office.&nbsp;
LOCATION:Public Works Office\, 24401 Joynes Neck Road ACCOMAC\, Virginia 23301
CLASS:PUBLIC
END:VEVENT
END:VCALENDAR
