BEGIN:VCALENDAR
VERSION:2.0
PRODID:Accomack County Calendar Creator
METHOD:PUBLISH
BEGIN:VEVENT
DTSTAMP:20190716T153856
DTSTART:20190722T090000
DTEND:20190722T110000
SUMMARY:Economic Development Authority (EDA) Special meeting
DESCRIPTION:<p><u>Agenda</u></p><p>The EDA will consider the matter of a $2.0 million bond request from Accomack County for construction of a new library building in Parksley, Virginia.</p>
X-ALT-DESC;FMTTYPE=text/html:<p><u>Agenda</u></p><p>The EDA will consider the matter of a $2.0 million bond request from Accomack County for construction of a new library building in Parksley, Virginia.</p>
LOCATION:Accomack County Airport Conference Room\, 29194 Parkway Melfa\, Virginia 23410
CLASS:PUBLIC
END:VEVENT
END:VCALENDAR
