BEGIN:VCALENDAR
VERSION:2.0
PRODID:Accomack County Calendar Creator
METHOD:PUBLISH
BEGIN:VEVENT
DTSTAMP:20220928T123618
DTSTART:20190528T133000
DTEND:20190528T153000
SUMMARY:CANCELLED *** Library Steering Committee Meeting *** CANCELLED
DESCRIPTION:Library Steering Committee scheduled for today,&nbsp; Tuesday , May 28th at 1:30pm at the Associated Farms in Parksley, has been Cancelled
X-ALT-DESC;FMTTYPE=text/html:Library Steering Committee scheduled for today,&nbsp; Tuesday , May 28th at 1:30pm at the Associated Farms in Parksley, has been Cancelled
LOCATION:Associated Farms\, 19125 Greenbush Rd Parksley\, Virginia 23421
CLASS:PUBLIC
END:VEVENT
END:VCALENDAR
