BEGIN:VCALENDAR
VERSION:2.0
PRODID:Accomack County Calendar Creator
METHOD:PUBLISH
BEGIN:VEVENT
DTSTAMP:20190401T115026
DTSTART:20190402T140000
DTEND:20190402T235900
SUMMARY:Accomack County Electoral Board
DESCRIPTION:The Electoral Board will meet in the Circuit Court building in the Electoral Board Room.
X-ALT-DESC;FMTTYPE=text/html:The Electoral Board will meet in the Circuit Court building in the Electoral Board Room.
LOCATION:
CLASS:PUBLIC
END:VEVENT
END:VCALENDAR
