BEGIN:VCALENDAR
VERSION:2.0
PRODID:Accomack County Calendar Creator
METHOD:PUBLISH
BEGIN:VEVENT
DTSTAMP:20190311T161709
DTSTART:20190411T160000
DTEND:20190411T170000
SUMMARY:Space Needs Committee
DESCRIPTION:<p>Space Needs Committee will meet April, 11 2019 at the Eastern Shore Public Library at 4 pm.&nbsp;</p><p>Click <a href="https://accomack.prod-as.govaccess.org/home/showpublisheddocument/11111/636879170125470000" target="_blank">HERE</a> to view meeting agenda</p>
X-ALT-DESC;FMTTYPE=text/html:<p>Space Needs Committee will meet April, 11 2019 at the Eastern Shore Public Library at 4 pm.&nbsp;</p><p>Click <a href="https://accomack.prod-as.govaccess.org/home/showpublisheddocument/11111/636879170125470000" target="_blank">HERE</a> to view meeting agenda</p>
LOCATION:Eastern Shore Public Library\, 23610 Front Street Accomac\, Virginia 23301
CLASS:PUBLIC
END:VEVENT
END:VCALENDAR
