BEGIN:VCALENDAR
VERSION:2.0
PRODID:Accomack County Calendar Creator
METHOD:PUBLISH
BEGIN:VEVENT
DTSTAMP:20190208T091757
DTSTART:20190919T190000
DTEND:20190919T210000
SUMMARY:Accomack County Fire and Rescue Commission
DESCRIPTION:Accomack County Fire and Rescue Commission will meet at Parksley Volunteer Fire and Rescue&nbsp;
X-ALT-DESC;FMTTYPE=text/html:Accomack County Fire and Rescue Commission will meet at Parksley Volunteer Fire and Rescue&nbsp;
LOCATION:Parksley Fire and Rescue\, 18431 Dunn Ave. Parksley\, Virginia 23421
CLASS:PUBLIC
END:VEVENT
END:VCALENDAR
