BEGIN:VCALENDAR
VERSION:2.0
PRODID:Accomack County Calendar Creator
METHOD:PUBLISH
BEGIN:VEVENT
DTSTAMP:20190208T091735
DTSTART:20190924T170000
DTEND:20190924T190000
SUMMARY:Accomack County Parks and Recreation Advisory Board
DESCRIPTION:Accomack County Parks and Recreation Advisory Board will meet at 5:00 p.m. in the Board Chambers
X-ALT-DESC;FMTTYPE=text/html:Accomack County Parks and Recreation Advisory Board will meet at 5:00 p.m. in the Board Chambers
LOCATION:Board Chambers Room 104\, 23296 Courthouse Ave\, Suite 204\, Suite 204 Accomac\, Virginia 23301
CLASS:PUBLIC
END:VEVENT
END:VCALENDAR
