BEGIN:VCALENDAR
VERSION:2.0
PRODID:Accomack County Calendar Creator
METHOD:PUBLISH
BEGIN:VEVENT
DTSTAMP:20190206T120144
DTSTART:20190627T100000
DTEND:20190627T120000
SUMMARY:Accomack County Wetlands Board
DESCRIPTION:Accomack County Wetlands Board&nbsp; will meet at 10 a.m., in the Board Chambers
X-ALT-DESC;FMTTYPE=text/html:Accomack County Wetlands Board&nbsp; will meet at 10 a.m., in the Board Chambers
LOCATION:Board Chambers Room 104\, 23296 Courthouse Ave\, Suite 204\, Suite 204 Accomac\, Virginia 23301
CLASS:PUBLIC
END:VEVENT
END:VCALENDAR
